

BEGIN:VCALENDAR
VERSION:2.0
PRODID:-//Bournemouth Video Club - ECPv6.2.9//NONSGML v1.0//EN
CALSCALE:GREGORIAN
METHOD:PUBLISH
X-ORIGINAL-URL:https://bhvideoclub.com
X-WR-CALDESC:Events for Bournemouth Video Club
REFRESH-INTERVAL;VALUE=DURATION:PT1H
X-Robots-Tag:noindex
X-PUBLISHED-TTL:PT1H
BEGIN:VTIMEZONE
TZID:Europe/London
BEGIN:DAYLIGHT
TZOFFSETFROM:+0000
TZOFFSETTO:+0100
TZNAME:BST
DTSTART:20240331T010000
END:DAYLIGHT
BEGIN:STANDARD
TZOFFSETFROM:+0100
TZOFFSETTO:+0000
TZNAME:GMT
DTSTART:20241027T010000
END:STANDARD
END:VTIMEZONE
BEGIN:VEVENT
DTSTART;TZID=Europe/London:20240313T190000
DTEND;TZID=Europe/London:20240313T210000
DTSTAMP:20260421T041148
CREATED:20231026T141810Z
LAST-MODIFIED:20231026T141810Z
UID:2154-1710356400-1710363600@bhvideoclub.com
SUMMARY:Chairmans Challenge
DESCRIPTION:Transport any transport —–Car/ Bus/train/wheelbarrow/skates/shoes/aeroplane/ etc etc
URL:https://bhvideoclub.com/event/chairmans-challenge/
END:VEVENT
BEGIN:VEVENT
DTSTART;TZID=Europe/London:20240327T190000
DTEND;TZID=Europe/London:20240327T210000
DTSTAMP:20260421T041148
CREATED:20231028T133325Z
LAST-MODIFIED:20231028T133325Z
UID:2185-1711566000-1711573200@bhvideoclub.com
SUMMARY:Dave's evening
DESCRIPTION:An evening of daves films    TBA
URL:https://bhvideoclub.com/event/daves-evening-2/
END:VEVENT
END:VCALENDAR