

BEGIN:VCALENDAR
VERSION:2.0
PRODID:-//Bournemouth Video Club - ECPv6.2.9//NONSGML v1.0//EN
CALSCALE:GREGORIAN
METHOD:PUBLISH
X-ORIGINAL-URL:https://bhvideoclub.com
X-WR-CALDESC:Events for Bournemouth Video Club
REFRESH-INTERVAL;VALUE=DURATION:PT1H
X-Robots-Tag:noindex
X-PUBLISHED-TTL:PT1H
BEGIN:VTIMEZONE
TZID:Europe/London
BEGIN:DAYLIGHT
TZOFFSETFROM:+0000
TZOFFSETTO:+0100
TZNAME:BST
DTSTART:20230326T010000
END:DAYLIGHT
BEGIN:STANDARD
TZOFFSETFROM:+0100
TZOFFSETTO:+0000
TZNAME:GMT
DTSTART:20231029T010000
END:STANDARD
END:VTIMEZONE
BEGIN:VEVENT
DTSTART;TZID=Europe/London:20230614T070000
DTEND;TZID=Europe/London:20230614T210000
DTSTAMP:20260421T175039
CREATED:20230518T185831Z
LAST-MODIFIED:20230518T185831Z
UID:2108-1686726000-1686776400@bhvideoclub.com
SUMMARY:An Evening With Doug Wardlaw
DESCRIPTION:An evening of animation \,Doug will show us how to Produce an animated film.
URL:https://bhvideoclub.com/event/an-evening-with-doug-wardlaw/
END:VEVENT
BEGIN:VEVENT
DTSTART;TZID=Europe/London:20230628T190000
DTEND;TZID=Europe/London:20230628T210000
DTSTAMP:20260421T175039
CREATED:20230621T193842Z
LAST-MODIFIED:20230621T194918Z
UID:2116-1687978800-1687986000@bhvideoclub.com
SUMMARY:Members Evening
DESCRIPTION:Due to the fact that Brian has launched himself from a ladder onto his hedge\,we have changed his night to the 28 June.I tried to fill in with a stripper .but too short notice .SO Tonight any  film you would like to share\,bring them along.I am sure we all have odd bits\,perhaps with a story behind them.
URL:https://bhvideoclub.com/event/members-evening-7/
END:VEVENT
END:VCALENDAR