

BEGIN:VCALENDAR
VERSION:2.0
PRODID:-//Bournemouth Video Club - ECPv6.2.9//NONSGML v1.0//EN
CALSCALE:GREGORIAN
METHOD:PUBLISH
X-ORIGINAL-URL:https://bhvideoclub.com
X-WR-CALDESC:Events for Bournemouth Video Club
REFRESH-INTERVAL;VALUE=DURATION:PT1H
X-Robots-Tag:noindex
X-PUBLISHED-TTL:PT1H
BEGIN:VTIMEZONE
TZID:Europe/London
BEGIN:DAYLIGHT
TZOFFSETFROM:+0000
TZOFFSETTO:+0100
TZNAME:BST
DTSTART:20230326T010000
END:DAYLIGHT
BEGIN:STANDARD
TZOFFSETFROM:+0100
TZOFFSETTO:+0000
TZNAME:GMT
DTSTART:20231029T010000
END:STANDARD
END:VTIMEZONE
BEGIN:VEVENT
DTSTART;TZID=Europe/London:20230208T190000
DTEND;TZID=Europe/London:20230208T210000
DTSTAMP:20260422T000240
CREATED:20221203T151108Z
LAST-MODIFIED:20230205T175836Z
UID:2017-1675882800-1675890000@bhvideoclub.com
SUMMARY:Members Evening or Wild Scotland 11
DESCRIPTION:Members evening (Have a chat \,show anything etc)or Keith’s film of wild Scotland part 2 \nDON’T FORGET 7.PM START THIS EVENING
URL:https://bhvideoclub.com/event/john-simpson-evening/
END:VEVENT
BEGIN:VEVENT
DTSTART;TZID=Europe/London:20230222T190000
DTEND;TZID=Europe/London:20230222T210000
DTSTAMP:20260422T000240
CREATED:20221203T152139Z
LAST-MODIFIED:20230112T172107Z
UID:2021-1677092400-1677099600@bhvideoclub.com
SUMMARY:Barry Glynn Evening
DESCRIPTION:Barry’s night…What has he in store for us this evening ?  (I am sure it will be most entertaining)Films etc ?
URL:https://bhvideoclub.com/event/barry-glyn-evening/
END:VEVENT
END:VCALENDAR