

BEGIN:VCALENDAR
VERSION:2.0
PRODID:-//Bournemouth Video Club - ECPv6.2.9//NONSGML v1.0//EN
CALSCALE:GREGORIAN
METHOD:PUBLISH
X-WR-CALNAME:Bournemouth Video Club
X-ORIGINAL-URL:https://bhvideoclub.com
X-WR-CALDESC:Events for Bournemouth Video Club
REFRESH-INTERVAL;VALUE=DURATION:PT1H
X-Robots-Tag:noindex
X-PUBLISHED-TTL:PT1H
BEGIN:VTIMEZONE
TZID:Europe/London
BEGIN:DAYLIGHT
TZOFFSETFROM:+0000
TZOFFSETTO:+0100
TZNAME:BST
DTSTART:20220327T010000
END:DAYLIGHT
BEGIN:STANDARD
TZOFFSETFROM:+0100
TZOFFSETTO:+0000
TZNAME:GMT
DTSTART:20221030T010000
END:STANDARD
END:VTIMEZONE
BEGIN:VEVENT
DTSTART;TZID=Europe/London:20221205T193000
DTEND;TZID=Europe/London:20221205T213000
DTSTAMP:20260422T032154
CREATED:20221202T124212Z
LAST-MODIFIED:20221202T124212Z
UID:1995-1670268600-1670275800@bhvideoclub.com
SUMMARY:Filming at Hamworthy Club
DESCRIPTION:I have been contacted by the Morris car club.They are putting on a song and dance show\,like a 30s nightclub they are asking us to film it \, \nContact me if you are up for it \nDave
URL:https://bhvideoclub.com/event/filming-at-hamworthy-club/
LOCATION:Hamworthy Social Club
END:VEVENT
BEGIN:VEVENT
DTSTART;TZID=Europe/London:20221214T073000
DTEND;TZID=Europe/London:20221214T090000
DTSTAMP:20260422T032154
CREATED:20220529T180539Z
LAST-MODIFIED:20221212T120000Z
UID:1923-1671003000-1671008400@bhvideoclub.com
SUMMARY:Christmas Party
DESCRIPTION:CHRISTMAS PARTY. \nChristmas Party night\, Please remember to bring your own food and drink.  Any party peace offerings will be welcomed (up to 10 minutes maximum)\, Songs\, Poems\, Jokes\, etc for our entertainment.  We do have a selection of such items i-hand already.
URL:https://bhvideoclub.com/event/christmas-party-3/
END:VEVENT
END:VCALENDAR