

BEGIN:VCALENDAR
VERSION:2.0
PRODID:-//Bournemouth Video Club - ECPv6.2.9//NONSGML v1.0//EN
CALSCALE:GREGORIAN
METHOD:PUBLISH
X-ORIGINAL-URL:https://bhvideoclub.com
X-WR-CALDESC:Events for Bournemouth Video Club
REFRESH-INTERVAL;VALUE=DURATION:PT1H
X-Robots-Tag:noindex
X-PUBLISHED-TTL:PT1H
BEGIN:VTIMEZONE
TZID:Europe/London
BEGIN:DAYLIGHT
TZOFFSETFROM:+0000
TZOFFSETTO:+0100
TZNAME:BST
DTSTART:20240331T010000
END:DAYLIGHT
BEGIN:STANDARD
TZOFFSETFROM:+0100
TZOFFSETTO:+0000
TZNAME:GMT
DTSTART:20241027T010000
END:STANDARD
END:VTIMEZONE
BEGIN:VEVENT
DTSTART;TZID=Europe/London:20240228T190000
DTEND;TZID=Europe/London:20240228T210000
DTSTAMP:20260421T055248
CREATED:20231026T141201Z
LAST-MODIFIED:20231026T141201Z
UID:2152-1709146800-1709154000@bhvideoclub.com
SUMMARY:Members evening
DESCRIPTION:Bring along any films you would like to show.talk about or demonstrate anything\,And discuss ideas for future evenings.
URL:https://bhvideoclub.com/event/members-evening-8/
END:VEVENT
END:VCALENDAR