

BEGIN:VCALENDAR
VERSION:2.0
PRODID:-//Bournemouth Video Club - ECPv6.2.9//NONSGML v1.0//EN
CALSCALE:GREGORIAN
METHOD:PUBLISH
X-WR-CALNAME:Bournemouth Video Club
X-ORIGINAL-URL:https://bhvideoclub.com
X-WR-CALDESC:Events for Bournemouth Video Club
REFRESH-INTERVAL;VALUE=DURATION:PT1H
X-Robots-Tag:noindex
X-PUBLISHED-TTL:PT1H
BEGIN:VTIMEZONE
TZID:Europe/London
BEGIN:DAYLIGHT
TZOFFSETFROM:+0000
TZOFFSETTO:+0100
TZNAME:BST
DTSTART:20230326T010000
END:DAYLIGHT
BEGIN:STANDARD
TZOFFSETFROM:+0100
TZOFFSETTO:+0000
TZNAME:GMT
DTSTART:20231029T010000
END:STANDARD
END:VTIMEZONE
BEGIN:VEVENT
DTSTART;TZID=Europe/London:20230329T190000
DTEND;TZID=Europe/London:20230329T210000
DTSTAMP:20260421T220854
CREATED:20221207T171947Z
LAST-MODIFIED:20230307T211024Z
UID:2025-1680116400-1680123600@bhvideoclub.com
SUMMARY:Keith's Evening
DESCRIPTION:This evening Keith  will be showing the second half of Wildlife Scotland 11 \n  \n  \n  \n  \n  \n  \n  \n  \n 
URL:https://bhvideoclub.com/event/keiths-evening/
END:VEVENT
END:VCALENDAR