

BEGIN:VCALENDAR
VERSION:2.0
PRODID:-//Bournemouth Video Club - ECPv6.2.9//NONSGML v1.0//EN
CALSCALE:GREGORIAN
METHOD:PUBLISH
X-WR-CALNAME:Bournemouth Video Club
X-ORIGINAL-URL:https://bhvideoclub.com
X-WR-CALDESC:Events for Bournemouth Video Club
REFRESH-INTERVAL;VALUE=DURATION:PT1H
X-Robots-Tag:noindex
X-PUBLISHED-TTL:PT1H
BEGIN:VTIMEZONE
TZID:Europe/London
BEGIN:DAYLIGHT
TZOFFSETFROM:+0000
TZOFFSETTO:+0100
TZNAME:BST
DTSTART:20230326T010000
END:DAYLIGHT
BEGIN:STANDARD
TZOFFSETFROM:+0100
TZOFFSETTO:+0000
TZNAME:GMT
DTSTART:20231029T010000
END:STANDARD
END:VTIMEZONE
BEGIN:VEVENT
DTSTART;TZID=Europe/London:20230315T070000
DTEND;TZID=Europe/London:20230315T210000
DTSTAMP:20260421T235858
CREATED:20221207T171547Z
LAST-MODIFIED:20230307T210938Z
UID:2023-1678863600-1678914000@bhvideoclub.com
SUMMARY:Film of Hamworthy to Harlem
DESCRIPTION:We were commissioned to film a presentation for the M G club.  Tonight we will be showing the film of Hamworthy to Harlem.Performed by The Hammond  Academy of Performing Arts\,called( A story of Music \,Dance and happy feet). Filmed by our club members at the Hamworthy club in December using five cameras.
URL:https://bhvideoclub.com/event/video-challenge/
END:VEVENT
END:VCALENDAR