

BEGIN:VCALENDAR
VERSION:2.0
PRODID:-//Bournemouth Video Club - ECPv6.2.9//NONSGML v1.0//EN
CALSCALE:GREGORIAN
METHOD:PUBLISH
X-WR-CALNAME:Bournemouth Video Club
X-ORIGINAL-URL:https://bhvideoclub.com
X-WR-CALDESC:Events for Bournemouth Video Club
REFRESH-INTERVAL;VALUE=DURATION:PT1H
X-Robots-Tag:noindex
X-PUBLISHED-TTL:PT1H
BEGIN:VTIMEZONE
TZID:Europe/London
BEGIN:DAYLIGHT
TZOFFSETFROM:+0000
TZOFFSETTO:+0100
TZNAME:BST
DTSTART:20230326T010000
END:DAYLIGHT
BEGIN:STANDARD
TZOFFSETFROM:+0100
TZOFFSETTO:+0000
TZNAME:GMT
DTSTART:20231029T010000
END:STANDARD
END:VTIMEZONE
BEGIN:VEVENT
DTSTART;TZID=Europe/London:20230111T193000
DTEND;TZID=Europe/London:20230111T210000
DTSTAMP:20260422T032101
CREATED:20221202T165244Z
LAST-MODIFIED:20230112T172631Z
UID:2001-1673465400-1673470800@bhvideoclub.com
SUMMARY:B V C Spring Programme 2023
DESCRIPTION:Please offer to contribute a talk\, however short. We can often fit you in a part of an evening.\nIt could be something technical\, a private project\, or just an idea needing more input.\nIf finances allow\, we might be able to arrange a guest speaker.\nPerhaps Keith could demonstrate how he does his animated scenes.\nOffer some ideas on what you would like to do for an evening
URL:https://bhvideoclub.com/event/b-v-c-spring-programme-2023/
END:VEVENT
BEGIN:VEVENT
DTSTART;TZID=Europe/London:20230111T193000
DTEND;TZID=Europe/London:20230111T210000
DTSTAMP:20260422T032101
CREATED:20221203T150501Z
LAST-MODIFIED:20221207T182131Z
UID:2015-1673465400-1673470800@bhvideoclub.com
SUMMARY:Brian Cope Evening
DESCRIPTION:Brian will entertain us this evening\,be prepared to be amazed \nwith his films etc.
URL:https://bhvideoclub.com/event/brian-cope-evening/
END:VEVENT
END:VCALENDAR